BEGIN:VCALENDAR
VERSION:2.0
PRODID:icalendar-ruby
CALSCALE:GREGORIAN
METHOD:PUBLISH
BEGIN:VEVENT
DTSTAMP:20260423T191029Z
UID:11-329210@kingdomco.cc
DTSTART:20261025T140000Z
DTEND:20261025T151500Z
CLASS:PUBLIC
CREATED:20260423T134319
DESCRIPTION:We meet every Sunday at Cumberland Christian School\, located a
 t 1100 W Sherman Ave. When you arrive to the building\, look for the Kingd
 om Co. flags along the road and enter through the main entrance.
LAST-MODIFIED:20260423T134319
LOCATION:1100 W Sherman Ave\, Vineland\, NJ
SUMMARY:Sunday Service
URL;VALUE=URI:https://www.kingdomco.cc/events/sunday-service/2026-10-25
ATTACH;FILENAME=IMGL7552_VSCO-2.JPG;FMTTYPE=image/jpeg:https://dq5pwpg1q8ru
 0.cloudfront.net/2025/10/16/11/50/10/ea56a559-e44f-417c-bd32-f1eeb313fd3c/
 IMGL7552_VSCO-2.JPG
END:VEVENT
END:VCALENDAR
